BEGIN:VCALENDAR
PRODID:-//kirchenweb.ch gmbh//veranstaltungsausgabe v2.0//DE
VERSION:2.0
METHOD:PUBLISH
BEGIN:VEVENT
DTSTART:20260516T073000Z
DTEND:20260516T084500Z
LOCATION:Stadtkirche St. Georg\, Chirchhofplatz\, 8260 Stein am Rhein
TRANSP:OPAQUE
SEQUENCE:0
UID:196367-veranstaltung@ref-sh.ch
DTSTAMP:20260405T113916Z
DESCRIPTION:Mit Steiner Kantorei und Steiner Kammerensemble.\n\nKontakt:
  Dagmar Bertram\n\nWeitere Infos:
  https://www.ref-sh.ch/veranstaltung/196367
SUMMARY:Kantaten-Gottesdienst zum Bachfest
PRIORITY:5
X-MICROSOFT-CDO-IMPORTANCE:1
CLASS:PUBLIC
END:VEVENT
END:VCALENDAR
