BEGIN:VCALENDAR
PRODID:-//kirchenweb.ch gmbh//veranstaltungsausgabe v2.0//DE
VERSION:2.0
METHOD:PUBLISH
BEGIN:VEVENT
DTSTART:20260514T080000Z
DTEND:20260514T090000Z
LOCATION:Kirche Burg\, Burg 3\, 8260 Stein am Rhein
TRANSP:OPAQUE
SEQUENCE:0
UID:196365-veranstaltung@ref-sh.ch
DTSTAMP:20260319T163009Z
DESCRIPTION:Kontakt: Pfarrehepaar Junger\n\nWeitere Infos:
  https://www.ref-sh.ch/veranstaltung/196365
SUMMARY:Auffahrts-Gottesdienst
PRIORITY:5
X-MICROSOFT-CDO-IMPORTANCE:1
CLASS:PUBLIC
END:VEVENT
END:VCALENDAR
