BEGIN:VCALENDAR
PRODID:-//kirchenweb.ch gmbh//veranstaltungsausgabe v2.0//DE
VERSION:2.0
METHOD:PUBLISH
BEGIN:VEVENT
DTSTART:20260503T074500Z
DTEND:20260503T084500Z
LOCATION:Kirche Burg\, Burg 3\, 8260 Stein am Rhein
TRANSP:OPAQUE
SEQUENCE:0
UID:196363-veranstaltung@ref-sh.ch
DTSTAMP:20260319T163007Z
DESCRIPTION:Folgende Jugendliche feiern ihre Konfirmation: \nEschenz: Beni
  Aeschlimann\, Emma-Lena Dutli\, Lena Hild\, Fabienne Neukomm\, Priszilla
  Oetterli\, Zoe Schmidt\, Janis Zatti\nEtzwilen: Max Walther\nKaltenbach:
  Mischa Leistner\, Leni Wiederkehr\nRheinklingen: Tieni Vetterli\nStein
  Vorderbrugg: Seraina Thalmann\, Mila von Ow\nWagenhausen: Sarina Berg\,
  Luana Ilg\, Robin Reichert\nWangen: Magnus Buff\n\n\nIm Anschluss Apero\n
 \nKontakt: Pfarrehepaar Junger\n\nWeitere Infos:
  https://www.ref-sh.ch/veranstaltung/196363
SUMMARY:Konfirmations-Gottesdienst
PRIORITY:5
X-MICROSOFT-CDO-IMPORTANCE:1
CLASS:PUBLIC
END:VEVENT
END:VCALENDAR
