BEGIN:VCALENDAR
PRODID:-//kirchenweb.ch gmbh//veranstaltungsausgabe v2.0//DE
VERSION:2.0
METHOD:PUBLISH
BEGIN:VEVENT
DTSTART:20260508T060000Z
DTEND:20260508T070000Z
LOCATION:Kirche Wilchingen\, Zinggenstrasse 28\, 8217 Wilchingen
TRANSP:OPAQUE
SEQUENCE:0
UID:196359-veranstaltung@ref-sh.ch
DTSTAMP:20260319T163008Z
DESCRIPTION:Spiele - Spass - Spannung «Für Alli». Es gibt
  Gesellschaftsspiele\, Puzzle und Konsolenspiele und für den kleinen
  Hunger Pizza und Sirup-Bar. Es dürfen alle kommen die Lust zum Spielen
  haben\, es gibt keine Altersbegrenzung.\n\nKontakt: Simon Halter\n
 \nWeitere Infos: https://www.ref-sh.ch/veranstaltung/196359
SUMMARY:Spiele Abend - Game Night
PRIORITY:5
X-MICROSOFT-CDO-IMPORTANCE:1
CLASS:PUBLIC
END:VEVENT
END:VCALENDAR
