BEGIN:VCALENDAR
PRODID:-//kirchenweb.ch gmbh//veranstaltungsausgabe v2.0//DE
VERSION:2.0
METHOD:PUBLISH
BEGIN:VEVENT
DTSTART:20261206T094500Z
DTEND:20261206T104500Z
LOCATION:Kirchgemeindehaus\, Zentralstrasse 32\, 8212 Neuhausen
TRANSP:OPAQUE
SEQUENCE:0
UID:196357-veranstaltung@ref-sh.ch
DTSTAMP:20260319T074228Z
DESCRIPTION:Kontakt: Konradin Winzeler\, Präsident Kirchgemeinde\n
 \nWeitere Infos: https://www.ref-sh.ch/veranstaltung/196357
SUMMARY:Kirchgemeindeversammlung
PRIORITY:5
X-MICROSOFT-CDO-IMPORTANCE:1
CLASS:PUBLIC
END:VEVENT
END:VCALENDAR
