BEGIN:VCALENDAR
PRODID:-//kirchenweb.ch gmbh//veranstaltungsausgabe v2.0//DE
VERSION:2.0
METHOD:PUBLISH
BEGIN:VEVENT
DTSTART:20260919T070000Z
DTEND:20260919T153000Z
LOCATION:Münster\, Münsterplatz\, 8200 Schaffhausen
TRANSP:OPAQUE
SEQUENCE:0
UID:196349-veranstaltung@ref-sh.ch
DTSTAMP:20260401T104124Z
DESCRIPTION:Kontakt: Pfarrerin Verena Hubmann\n\nWeitere Infos:
  https://www.ref-sh.ch/veranstaltung/196349
SUMMARY:Traugottesdienst Odette Tope NADJE und Geza Rurik SZENOGRADI (oder
  am 10.10.2026)
PRIORITY:5
X-MICROSOFT-CDO-IMPORTANCE:1
CLASS:PUBLIC
END:VEVENT
END:VCALENDAR
