BEGIN:VCALENDAR
PRODID:-//kirchenweb.ch gmbh//veranstaltungsausgabe v2.0//DE
VERSION:2.0
METHOD:PUBLISH
BEGIN:VEVENT
DTSTART:20260517T074500Z
DTEND:20260517T084500Z
LOCATION:Kirche Burg\, Burg 4\, 8260 Stein am Rhein
TRANSP:OPAQUE
SEQUENCE:0
UID:196328-veranstaltung@ref-sh.ch
DTSTAMP:20260317T132111Z
DESCRIPTION:Kontakt: nicole.gerstlauer@ref-sh.ch\n\nWeitere Infos:
  https://www.ref-sh.ch/veranstaltung/196328
SUMMARY:Gottesdienst Kirche Burg
PRIORITY:5
X-MICROSOFT-CDO-IMPORTANCE:1
CLASS:PUBLIC
END:VEVENT
END:VCALENDAR
