BEGIN:VCALENDAR
PRODID:-//kirchenweb.ch gmbh//veranstaltungsausgabe v2.0//DE
VERSION:2.0
METHOD:PUBLISH
BEGIN:VEVENT
DTSTART:20261024T170000Z
DTEND:20261024T180000Z
LOCATION:Kirche Löhningen\, Kloster 3\, 8224 Löhningen
TRANSP:OPAQUE
SEQUENCE:0
UID:196235-veranstaltung@ref-sh.ch
DTSTAMP:20260313T163022Z
DESCRIPTION:125. SamGo Löhningen\, der Jugendgottesdienst für Teenager
  von 5. bis 9. Klasse\, mit Team\, Lukas Huber und Niel Powers (Musik).\n
 \nAnschliessend Check-in Löhningen.\n\nKontakt: Lukas Huber\n\nWeitere
  Infos: https://www.ref-sh.ch/veranstaltung/196235
SUMMARY:SamGo Löhningen
PRIORITY:5
X-MICROSOFT-CDO-IMPORTANCE:1
CLASS:PUBLIC
END:VEVENT
END:VCALENDAR
