BEGIN:VCALENDAR
PRODID:-//kirchenweb.ch gmbh//veranstaltungsausgabe v2.0//DE
VERSION:2.0
METHOD:PUBLISH
BEGIN:VEVENT
DTSTART:20260531T073000Z
DTEND:20260531T083000Z
LOCATION:Ref. Kirche\, Zentralstrasse 22\, 8212 Neuhausen
TRANSP:OPAQUE
SEQUENCE:0
UID:196223-veranstaltung@ref-sh.ch
DTSTAMP:20260312T163013Z
DESCRIPTION:Kontakt: Pfrn. Nyree Heckmann\n\nWeitere Infos:
  https://www.ref-sh.ch/veranstaltung/196223
SUMMARY:Gottesdienst
PRIORITY:5
X-MICROSOFT-CDO-IMPORTANCE:1
CLASS:PUBLIC
END:VEVENT
END:VCALENDAR
