BEGIN:VCALENDAR
PRODID:-//kirchenweb.ch gmbh//veranstaltungsausgabe v2.0//DE
VERSION:2.0
METHOD:PUBLISH
BEGIN:VEVENT
DTSTART:20260510T073000Z
DTEND:20260510T083000Z
LOCATION:Ref. Kirche\, Zentralstrasse 22\, 8212 Neuhausen
TRANSP:OPAQUE
SEQUENCE:0
UID:196219-veranstaltung@ref-sh.ch
DTSTAMP:20260312T163009Z
DESCRIPTION:Kontakt: Pfr. Matthias Koch\n\nWeitere Infos:
  https://www.ref-sh.ch/veranstaltung/196219
SUMMARY:Guter Gedanke anschl. Chilekafi
PRIORITY:5
X-MICROSOFT-CDO-IMPORTANCE:1
CLASS:PUBLIC
END:VEVENT
END:VCALENDAR
