BEGIN:VCALENDAR
PRODID:-//kirchenweb.ch gmbh//veranstaltungsausgabe v2.0//DE
VERSION:2.0
METHOD:PUBLISH
BEGIN:VEVENT
DTSTART:20260408T093000Z
DTEND:20260408T120000Z
LOCATION:Kirchgemeindehaus\, Zentralstrasse 32\, 8212 Neuhausen
TRANSP:OPAQUE
SEQUENCE:0
UID:196204-veranstaltung@ref-sh.ch
DTSTAMP:20260312T125407Z
DESCRIPTION:Kontakt: Claudia Kiener\n\nWeitere Infos:
  https://www.ref-sh.ch/veranstaltung/196204
SUMMARY:Mittagstisch
PRIORITY:5
X-MICROSOFT-CDO-IMPORTANCE:1
CLASS:PUBLIC
END:VEVENT
END:VCALENDAR
