BEGIN:VCALENDAR
PRODID:-//kirchenweb.ch gmbh//veranstaltungsausgabe v2.0//DE
VERSION:2.0
METHOD:PUBLISH
BEGIN:VEVENT
DTSTART:20260401T113000Z
DTEND:20260401T140000Z
LOCATION:Pfarrhofraum Wilchingen\, Zinggenstrasse 28\, 8217 Wilchingen
TRANSP:OPAQUE
SEQUENCE:0
UID:196190-veranstaltung@ref-sh.ch
DTSTAMP:20260325T194810Z
DESCRIPTION:für Kinder von der 1. bis 5. Klasse\nmit Geschichte und
  Zvieri\nAnmeldung bis Samstag\, 28. März\nan ruth.stoll-m@bluewin.ch\n
 \nKontakt: Ruth Stoll\n\nWeitere Infos:
  https://www.ref-sh.ch/veranstaltung/196190
SUMMARY:Kolibri Osterbasteln
PRIORITY:5
X-MICROSOFT-CDO-IMPORTANCE:1
CLASS:PUBLIC
END:VEVENT
END:VCALENDAR
