BEGIN:VCALENDAR
PRODID:-//kirchenweb.ch gmbh//veranstaltungsausgabe v2.0//DE
VERSION:2.0
METHOD:PUBLISH
BEGIN:VEVENT
DTSTART:20260611T060000Z
DTEND:20260611T160000Z
LOCATION:Rhein und Umgebung\, \,
TRANSP:OPAQUE
SEQUENCE:0
UID:196187-veranstaltung@ref-sh.ch
DTSTAMP:20260312T085857Z
DESCRIPTION:Die Reise führt uns dieses Jahr in die heimische Region:
 \nNach einer Busfahrt nach Stein a. Rhein\, einem Kaffeehalt in der
  Rheingerbe und einem Rundgang im Städtli werden wir mit dem Schiff unter
  der fachkundigen Führung von Walter Vogelsanger (ehemaliger
  Kantonsförster) den Rhein\, seine Geschichte\, seine Ufer und
  versteckten Bauwerke kennenlernen.\n\n•	Abfahrt: 08.00 Uhr Busschleife
  Brandplatz\, Hägli oder Enge\n•	Mittagessen im St.Katharinental: Salat
  oder Suppe\, Hauptgang mit Fleisch oder Vegi\, Dessert\n•	Rückkehr:
  ca. 18.00 Uhr Beringen Brandplatz\n•	Kosten: Fr. 90.-	Allfällige
  auswärtige Begleitpersonen Fr.110.-\n\n\n\n\nKontakt: Marcelina Zürcher
 \n\nWeitere Infos: https://www.ref-sh.ch/veranstaltung/196187
SUMMARY:Seniorenausflug 2026
PRIORITY:5
X-MICROSOFT-CDO-IMPORTANCE:1
CLASS:PUBLIC
END:VEVENT
END:VCALENDAR
