BEGIN:VCALENDAR
PRODID:-//kirchenweb.ch gmbh//veranstaltungsausgabe v2.0//DE
VERSION:2.0
METHOD:PUBLISH
BEGIN:VEVENT
DTSTART;VALUE=DATE:20260509
DTEND;VALUE=DATE:20260510
LOCATION:Begegnungszentrum Rüdlingen\, Alte Nackerstrasse 2\, 8455
  Rüdlingen
TRANSP:OPAQUE
SEQUENCE:0
UID:196185-veranstaltung@ref-sh.ch
DTSTAMP:20260312T163008Z
DESCRIPTION:Informationen zum Generationen-Wochenende finden sich
  https://ref-sh.ch/generationen-wochenende\nAnmelden kann man sich
  https://ref-sh.ch/generationen-wochenende#formular\n\nKontakt: Lukas
  Huber\n\nWeitere Infos: https://www.ref-sh.ch/veranstaltung/196185
SUMMARY:Generationen-Wochenende
PRIORITY:5
X-MICROSOFT-CDO-IMPORTANCE:1
CLASS:PUBLIC
END:VEVENT
END:VCALENDAR
