BEGIN:VCALENDAR
PRODID:-//kirchenweb.ch gmbh//veranstaltungsausgabe v2.0//DE
VERSION:2.0
METHOD:PUBLISH
BEGIN:VEVENT
DTSTART:20260421T170000Z
DTEND:20260421T190000Z
LOCATION:Saal Pfarrhaus\, Gässli 9\, 8235 Lohn
TRANSP:OPAQUE
SEQUENCE:0
UID:196176-veranstaltung@ref-sh.ch
DTSTAMP:20260410T100347Z
DESCRIPTION:siehe .pdf im Anhang\n\nKontakt: kaethi.leu@ref-sh.ch\n
 \nWeitere Infos: https://www.ref-sh.ch/veranstaltung/196176
SUMMARY:Orientierungsversammlung
PRIORITY:5
X-MICROSOFT-CDO-IMPORTANCE:1
CLASS:PUBLIC
END:VEVENT
END:VCALENDAR
