BEGIN:VCALENDAR
PRODID:-//kirchenweb.ch gmbh//veranstaltungsausgabe v2.0//DE
VERSION:2.0
METHOD:PUBLISH
BEGIN:VEVENT
DTSTART:20260428T170000Z
DTEND:20260428T190000Z
LOCATION:Saal Pfarrhaus\, Gässli 9\, 8235 Lohn
TRANSP:OPAQUE
SEQUENCE:0
UID:196175-veranstaltung@ref-sh.ch
DTSTAMP:20260414T194218Z
DESCRIPTION:Kirchgemeindeversammlung\nmit Apéro im Anschluss\n\nKontakt:
  kaethi.leu@ref-sh.ch\n\nWeitere Infos:
  https://www.ref-sh.ch/veranstaltung/196175
SUMMARY:Kirchgemeindeversammlung
PRIORITY:5
X-MICROSOFT-CDO-IMPORTANCE:1
CLASS:PUBLIC
END:VEVENT
END:VCALENDAR
