BEGIN:VCALENDAR
PRODID:-//kirchenweb.ch gmbh//veranstaltungsausgabe v2.0//DE
VERSION:2.0
METHOD:PUBLISH
BEGIN:VEVENT
DTSTART:20260924T100000Z
DTEND:20260924T112000Z
LOCATION:Steigsaal\, Nordstrasse 33\, 8200 Schaffhausen
TRANSP:OPAQUE
SEQUENCE:0
UID:196162-veranstaltung@ref-sh.ch
DTSTAMP:20260311T163021Z
DESCRIPTION:Zusammen essen und Jugendgottesdienst feiern. Anmeldung bis
  Dienstag an katrin.vonarx@ref-sh.ch\n\nKontakt: Katrin von Arx\n\nWeitere
  Infos: https://www.ref-sh.ch/veranstaltung/196162
SUMMARY:FäZ - Family-Zmittag
PRIORITY:5
X-MICROSOFT-CDO-IMPORTANCE:1
CLASS:PUBLIC
END:VEVENT
END:VCALENDAR
