BEGIN:VCALENDAR
PRODID:-//kirchenweb.ch gmbh//veranstaltungsausgabe v2.0//DE
VERSION:2.0
METHOD:PUBLISH
BEGIN:VEVENT
DTSTART:20261217T150000Z
DTEND:20261217T164500Z
LOCATION:Steigkirche / Steigsaal\, Nordstrasse 33\, 8200 Schaffhausen
TRANSP:OPAQUE
SEQUENCE:0
UID:196154-veranstaltung@ref-sh.ch
DTSTAMP:20260311T163032Z
DESCRIPTION:Gemeinsam mit den Kleinsten feiern wir Gottesdienst. Die
  Kinder im Alter von 2 bis 6 Jahren werden von den Eltern oder einer
  anderen Bezugsperson begleitet. 16 - 17 Uhr\, open end bis ca. 17.45 Uhr
 \n\nKontakt: Pfrn.Claudia Henne\n\nWeitere Infos:
  https://www.ref-sh.ch/veranstaltung/196154
SUMMARY:Fiire mit de Chliine-Weihnachtsfeier
PRIORITY:5
X-MICROSOFT-CDO-IMPORTANCE:1
CLASS:PUBLIC
END:VEVENT
END:VCALENDAR
