BEGIN:VCALENDAR
PRODID:-//kirchenweb.ch gmbh//veranstaltungsausgabe v2.0//DE
VERSION:2.0
METHOD:PUBLISH
BEGIN:VEVENT
DTSTART:20260925T100000Z
DTEND:20260925T120000Z
LOCATION:Kino Kiwi\, Bachstrasse 14\, 8200 Schaffhausen
TRANSP:OPAQUE
SEQUENCE:0
UID:196149-veranstaltung@ref-sh.ch
DTSTAMP:20260311T084706Z
DESCRIPTION:HEKS offeriert Ihnen ein kleines Lunchpaket zum Film. Dieser
  dauert ca. 45 Minuten. Nach der Filmvorführung freut sich das HEKS-Team
  auf den Austausch mit dem Publikum.\n\nJetzt anmelden unter:
 \nhttp://www.heks.ch/lunchkino\nTel. 044 360 88 07\n\nBegrüssung durch
  Doris Brodbeck\, Beauftragte für Entwicklungszusammenarbeit\,
  Schaffhausen\n\nKontakt: doris.brodbeck@ref-sh.ch\n\nWeitere Infos:
  https://www.ref-sh.ch/veranstaltung/196149
SUMMARY:Lunchkino HEKS
PRIORITY:5
X-MICROSOFT-CDO-IMPORTANCE:1
CLASS:PUBLIC
END:VEVENT
END:VCALENDAR
