BEGIN:VCALENDAR
PRODID:-//kirchenweb.ch gmbh//veranstaltungsausgabe v2.0//DE
VERSION:2.0
METHOD:PUBLISH
BEGIN:VEVENT
DTSTART:20260714T173000Z
DTEND:20260714T183000Z
LOCATION:Unterrichtszimmer bei der Dorfkirche\, Hammermauer 17\, 8215
  Hallau
TRANSP:OPAQUE
SEQUENCE:0
UID:196144-veranstaltung@ref-sh.ch
DTSTAMP:20260326T115505Z
DESCRIPTION:Buch: offen\nTextauzug: offen\n\nPro Abend unternehmen wir
  eine geführte Reise in ein biblisches Buch. Dabei stossen wir auf
  Altbekanntes und entdecken Neues. Für Gesprächsstoff sorgen die Bibel
  und die Gruppe. Vorkenntnisse braucht es keine.\n\nKontakt: Pfrn. Wiebke
  Suter\n\nWeitere Infos: https://www.ref-sh.ch/veranstaltung/196144
SUMMARY:geführte Reisen in die Bibel
PRIORITY:5
X-MICROSOFT-CDO-IMPORTANCE:1
CLASS:PUBLIC
END:VEVENT
END:VCALENDAR
