BEGIN:VCALENDAR
PRODID:-//kirchenweb.ch gmbh//veranstaltungsausgabe v2.0//DE
VERSION:2.0
METHOD:PUBLISH
BEGIN:VEVENT
DTSTART:20260512T173000Z
DTEND:20260512T183000Z
LOCATION:Unterrichtszimmer bei der Dorfkirche\, Hammermauer 17\, 8215
  Hallau
TRANSP:OPAQUE
SEQUENCE:0
UID:196142-veranstaltung@ref-sh.ch
DTSTAMP:20260402T143800Z
DESCRIPTION:Einblick in die ersten Christengemeinden in der
  Apostelgeschichte\nTextauszug: Apg 2\,42-47 und 4\,32-37\n\nPro Abend
  unternehmen wir eine geführte Reise in ein biblisches Buch. Dabei
  stossen wir auf Altbekanntes und entdecken Neues. Für Gesprächsstoff
  sorgen die Bibel und die Gruppe. Vorkenntnisse braucht es keine.\n
 \nKontakt: Pfrn. Wiebke Suter\n\nWeitere Infos:
  https://www.ref-sh.ch/veranstaltung/196142
SUMMARY:Geführte Reisen in die Apostelgeschichte: Einblick in die ersten
  Christengemeinden
PRIORITY:5
X-MICROSOFT-CDO-IMPORTANCE:1
CLASS:PUBLIC
END:VEVENT
END:VCALENDAR
