BEGIN:VCALENDAR
PRODID:-//kirchenweb.ch gmbh//veranstaltungsausgabe v2.0//DE
VERSION:2.0
METHOD:PUBLISH
BEGIN:VEVENT
DTSTART:20260505T073000Z
DTEND:20260505T090000Z
LOCATION:Pfarrhaussaal\, Im Chloster 1\, 8214 Gächlingen
TRANSP:OPAQUE
SEQUENCE:0
UID:196135-veranstaltung@ref-sh.ch
DTSTAMP:20260310T163010Z
DESCRIPTION:Wir lesen Texte aus dem Matthäus-Evangelium und machen uns
  Gedanken über deren Hintergrund und die Übertragung ins Leben.\n
 \nKontakt: Marianne Näf-Bräker\n\nWeitere Infos:
  https://www.ref-sh.ch/veranstaltung/196135
SUMMARY:Bibelgesprächskreis
PRIORITY:5
X-MICROSOFT-CDO-IMPORTANCE:1
CLASS:PUBLIC
END:VEVENT
END:VCALENDAR
