BEGIN:VCALENDAR
PRODID:-//kirchenweb.ch gmbh//veranstaltungsausgabe v2.0//DE
VERSION:2.0
METHOD:PUBLISH
BEGIN:VEVENT
DTSTART:20261006T080000Z
DTEND:20261006T090000Z
LOCATION:Alterszentrum Wiesli\, Rietstrasse 75\, 8200 Schaffhausen
TRANSP:OPAQUE
SEQUENCE:0
UID:196109-veranstaltung@ref-sh.ch
DTSTAMP:20260310T111225Z
DESCRIPTION:Kontakt: Pfr. Beat Wanner\n\nWeitere Infos:
  https://www.ref-sh.ch/veranstaltung/196109
SUMMARY:Gottesdienst im Altersheim Wiesli
PRIORITY:5
X-MICROSOFT-CDO-IMPORTANCE:1
CLASS:PUBLIC
END:VEVENT
END:VCALENDAR
