BEGIN:VCALENDAR
PRODID:-//kirchenweb.ch gmbh//veranstaltungsausgabe v2.0//DE
VERSION:2.0
METHOD:PUBLISH
BEGIN:VEVENT
DTSTART:20260424T170000Z
DTEND:20260424T180000Z
LOCATION:Kirche Burg\, Uf Burg 3\, 8260 Stein am Rhein
TRANSP:OPAQUE
SEQUENCE:0
UID:196088-veranstaltung@ref-sh.ch
DTSTAMP:20260310T081135Z
DESCRIPTION:Ökumenisches Abendgebet\n\nSingen\, Beten & Hören auf
  biblische Worte - in der Stille \nAtem holen bei Gott und Kraft schöpfen
  für den Alltag\n\n\nKontakt: admin.burg@ref-sh.ch\n\nWeitere Infos:
  https://www.ref-sh.ch/veranstaltung/196088
SUMMARY:Abendgebet mit Taizé-Liedern
PRIORITY:5
X-MICROSOFT-CDO-IMPORTANCE:1
CLASS:PUBLIC
END:VEVENT
END:VCALENDAR
