BEGIN:VCALENDAR
PRODID:-//kirchenweb.ch gmbh//veranstaltungsausgabe v2.0//DE
VERSION:2.0
METHOD:PUBLISH
BEGIN:VEVENT
DTSTART:20260503T073000Z
DTEND:20260503T083000Z
LOCATION:Ref. Kirche\, Zentralstrasse 22\, 8212 Neuhausen
TRANSP:OPAQUE
SEQUENCE:0
UID:196051-veranstaltung@ref-sh.ch
DTSTAMP:20260306T163010Z
DESCRIPTION:Kontakt: Pfr. Matthias Koch\n\nWeitere Infos:
  https://www.ref-sh.ch/veranstaltung/196051
SUMMARY:Gottesdienst
PRIORITY:5
X-MICROSOFT-CDO-IMPORTANCE:1
CLASS:PUBLIC
END:VEVENT
END:VCALENDAR
