BEGIN:VCALENDAR
PRODID:-//kirchenweb.ch gmbh//veranstaltungsausgabe v2.0//DE
VERSION:2.0
METHOD:PUBLISH
BEGIN:VEVENT
DTSTART:20260508T120000Z
DTEND:20260508T130000Z
LOCATION:NACHBAR Stahlgiesserei\, zur Stahlgiesserei 15B\, 8200
  Schaffhausen
TRANSP:OPAQUE
SEQUENCE:0
UID:196037-veranstaltung@ref-sh.ch
DTSTAMP:20260311T072645Z
DESCRIPTION:Grüezi et Bonjour! – Français avec plaisir.
  Konversationskurs mit Anita Werner-Willi\n\nWillst du Französisch im
  Alltag anwenden und üben? Dann bist du hier genau richtig! Alle Niveaus
  sind willkommen. Wir sprechen über interessante Themen\, üben
  Alltagssituationen und haben dabei Spaß am Sprechen. Praktisch\,
  lebendig und voller Freude\, um dein Französisch zu verbessern und neue
  Leute kennenzulernen.\n\nKosten: Spende willkommen\nTermine: 10.04\,
  08.05\, 05.06\, 03.07 | jeweils 14:00–15:00 Uhr\nFür Fragen:
  ae.werner@shinternet.ch Ohne Anmeldung\n\nKontakt: Anita Werner-Willi\n
 \nWeitere Infos: https://www.ref-sh.ch/veranstaltung/196037
SUMMARY:Grüezi et bonjour! Français avec Plaisir.
PRIORITY:5
X-MICROSOFT-CDO-IMPORTANCE:1
CLASS:PUBLIC
END:VEVENT
END:VCALENDAR
