BEGIN:VCALENDAR
PRODID:-//kirchenweb.ch gmbh//veranstaltungsausgabe v2.0//DE
VERSION:2.0
METHOD:PUBLISH
BEGIN:VEVENT
DTSTART:20260424T160000Z
DTEND:20260424T190000Z
LOCATION:NACHBAR Stahlgiesserei\, zur Stahlgiesserei 15B\, 8200
  Schaffhausen
TRANSP:OPAQUE
SEQUENCE:0
UID:196032-veranstaltung@ref-sh.ch
DTSTAMP:20260306T163008Z
DESCRIPTION:Lust auf einen entspannten Feierabend? Komm vorbei und
  geniesse leckere Guacamole in der NACHBAR! Der perfekte Ort\, um nach der
  Arbeit abzuschalten und in guter Gesellschaft den Tag ausklingen zu
  lassen. Getränke können gekauft werden.\n\nKontakt: Mónica Carmona
  Cano \n\nWeitere Infos: https://www.ref-sh.ch/veranstaltung/196032
SUMMARY:Feierabend mit Guacamole
PRIORITY:5
X-MICROSOFT-CDO-IMPORTANCE:1
CLASS:PUBLIC
END:VEVENT
END:VCALENDAR
