BEGIN:VCALENDAR
PRODID:-//kirchenweb.ch gmbh//veranstaltungsausgabe v2.0//DE
VERSION:2.0
METHOD:PUBLISH
BEGIN:VEVENT
DTSTART:20260511T070000Z
DTEND:20260511T110000Z
LOCATION:NACHBAR Stahlgiesserei\, zur Stahlgiesserei 15B\, 8200
  Schaffhausen
TRANSP:OPAQUE
SEQUENCE:0
UID:196029-veranstaltung@ref-sh.ch
DTSTAMP:20260306T163012Z
DESCRIPTION:Lust auf einen produktiven Start in die Woche? Komm vorbei und
  arbeite in entspannter Atmosphäre in der NACHBAR! Geniesse eine gute
  Tasse Kaffee\, tausche dich mit anderen aus oder finde deine ruhige Ecke
  zum konzentrierten Arbeiten.\n\nKontakt: Mónica Carmona Cano \n\nWeitere
  Infos: https://www.ref-sh.ch/veranstaltung/196029
SUMMARY:Co-working\, Coffee & more
PRIORITY:5
X-MICROSOFT-CDO-IMPORTANCE:1
CLASS:PUBLIC
END:VEVENT
END:VCALENDAR
