BEGIN:VCALENDAR
PRODID:-//kirchenweb.ch gmbh//veranstaltungsausgabe v2.0//DE
VERSION:2.0
METHOD:PUBLISH
BEGIN:VEVENT
DTSTART:20260510T160000Z
DTEND:20260510T180000Z
LOCATION:Kirche\, Kirchgasse\, 8226 Schleitheim
TRANSP:OPAQUE
SEQUENCE:0
UID:196024-veranstaltung@ref-sh.ch
DTSTAMP:20260306T163012Z
DESCRIPTION:mit Rolf Romei\n\nKontakt: Beatrice Lutz\n\nWeitere Infos:
  https://www.ref-sh.ch/veranstaltung/196024
SUMMARY:Frühlingskonzert Musikverein Schleitheim
PRIORITY:5
X-MICROSOFT-CDO-IMPORTANCE:1
CLASS:PUBLIC
END:VEVENT
END:VCALENDAR
