BEGIN:VCALENDAR
PRODID:-//kirchenweb.ch gmbh//veranstaltungsausgabe v2.0//DE
VERSION:2.0
METHOD:PUBLISH
BEGIN:VEVENT
DTSTART:20260603T173000Z
DTEND:20260603T190000Z
LOCATION:Gemeindestube\, Kirchgasse 8\, 8226 Schleitheim
TRANSP:OPAQUE
SEQUENCE:0
UID:195925-veranstaltung@ref-sh.ch
DTSTAMP:20260304T202943Z
DESCRIPTION:Kontakt: Rahel Jufer\n\nWeitere Infos:
  https://www.ref-sh.ch/veranstaltung/195925
SUMMARY:Elternabend kirchl.Unterricht
PRIORITY:5
X-MICROSOFT-CDO-IMPORTANCE:1
CLASS:PUBLIC
END:VEVENT
END:VCALENDAR
