BEGIN:VCALENDAR
PRODID:-//kirchenweb.ch gmbh//veranstaltungsausgabe v2.0//DE
VERSION:2.0
METHOD:PUBLISH
BEGIN:VEVENT
DTSTART:20260510T080000Z
DTEND:20260510T090000Z
LOCATION:Kirche Beggingen\, Bohlgass 15.2\, 8228 Beggingen
TRANSP:OPAQUE
SEQUENCE:0
UID:195891-veranstaltung@ref-sh.ch
DTSTAMP:20260415T114819Z
DESCRIPTION:Apéro im Anschluss\n\nKontakt: Pfrn. Karin
  Baumgartner-Vetterli\, Hauptstrasse 59\, 8225 Siblingen\,
  karin.baumgartner@ref-sh.ch\, 079 179 61 15\n\nWeitere Infos:
  https://www.ref-sh.ch/veranstaltung/195891
SUMMARY:Regio-Gottesdienst zum Muttertag mit Taufen
PRIORITY:5
X-MICROSOFT-CDO-IMPORTANCE:1
CLASS:PUBLIC
END:VEVENT
END:VCALENDAR
