BEGIN:VCALENDAR
PRODID:-//kirchenweb.ch gmbh//veranstaltungsausgabe v2.0//DE
VERSION:2.0
METHOD:PUBLISH
BEGIN:VEVENT
DTSTART:20260501T123000Z
DTEND:20260501T150000Z
LOCATION:Saal Hotel Kronenhof\, Kirchhofplatz\, 8200 Schaffhausen
TRANSP:OPAQUE
SEQUENCE:0
UID:195765-veranstaltung@ref-sh.ch
DTSTAMP:20260302T163012Z
DESCRIPTION:Tanzen Sie mit uns in den Mai! Wir verwandeln den Tag der
  Arbeit zum Tag des Tanzes und laden alle herzlich zu einem Tanznachmittag
  ein. Discofox\, Rumba\, Chachacha oder Jife\, die Tanzstile lassen keine
  Wünsche offen. Sie haben keinen Tanzpartner oder keine Tanzpartnerin?
  Kein Problem\, unsere bewährten Taxidancerinnen und Taxidancer führen
  Sie sicher über das Parkett\, auch Tanzanfängerinnen- und Anfänger
  sind herzlich willkommen. In der Pause gibt es eine kulinarische
  Zwischenverpflegung. \n\nKontakt: a\nAdriana Di Cesare\n\nWeitere Infos:
  https://www.ref-sh.ch/veranstaltung/195765
SUMMARY:Tanz in den Mai
PRIORITY:5
X-MICROSOFT-CDO-IMPORTANCE:1
CLASS:PUBLIC
END:VEVENT
END:VCALENDAR
