BEGIN:VCALENDAR
PRODID:-//kirchenweb.ch gmbh//veranstaltungsausgabe v2.0//DE
VERSION:2.0
METHOD:PUBLISH
BEGIN:VEVENT
DTSTART:20260902T120000Z
DTEND:20260902T140000Z
LOCATION:Hofmeisterhuus\, Eichenstrasse 37\, 8200 Schaffhausen
TRANSP:OPAQUE
SEQUENCE:0
UID:195748-veranstaltung@ref-sh.ch
DTSTAMP:20260302T163022Z
DESCRIPTION:Willkommen im Garten zu Kaffee\, Tee und selbstgemachten
  Desserts.\nOb Klein oder Gross\, Jung oder Reif\, von nah oder fern - wir
  freuen uns auf Sie.\n\nKontakt: Barbara Rohrer Sozialdiakonie\n\nWeitere
  Infos: https://www.ref-sh.ch/veranstaltung/195748
SUMMARY:Quartierkafi für alle
PRIORITY:5
X-MICROSOFT-CDO-IMPORTANCE:1
CLASS:PUBLIC
END:VEVENT
END:VCALENDAR
