BEGIN:VCALENDAR
PRODID:-//kirchenweb.ch gmbh//veranstaltungsausgabe v2.0//DE
VERSION:2.0
METHOD:PUBLISH
BEGIN:VEVENT
DTSTART;VALUE=DATE:20260523
DTEND;VALUE=DATE:20260524
LOCATION:Stettbach - Winkel\, \,
TRANSP:OPAQUE
SEQUENCE:0
UID:195726-veranstaltung@ref-sh.ch
DTSTAMP:20260319T155414Z
DESCRIPTION:Wir pilgern auf den Spuren der Hugenotten und Waldenser in
  fünf Etappen vom Kloster Fahr in Dietikon bis Barzheim.\n\n2.
  Tagesetappe: Stettbach - Winkel (14km)\n\nTreffpunkt: \n\nFür das
  Billett ist jede/r selber verantwortlich.\n\nAnmeldung bis am Vortag um
  18.00 Uhr an\n oder 044 867 05 18\n\nKontakt: Beat Frefel\n\nWeitere
  Infos: https://www.ref-sh.ch/veranstaltung/195726
SUMMARY:Tagespilgern 2026
PRIORITY:5
X-MICROSOFT-CDO-IMPORTANCE:1
CLASS:PUBLIC
END:VEVENT
END:VCALENDAR
