BEGIN:VCALENDAR
PRODID:-//kirchenweb.ch gmbh//veranstaltungsausgabe v2.0//DE
VERSION:2.0
METHOD:PUBLISH
BEGIN:VEVENT
DTSTART;VALUE=DATE:20260509
DTEND;VALUE=DATE:20260510
LOCATION:Kloster Fahr - Stettbach\, \,
TRANSP:OPAQUE
SEQUENCE:0
UID:195725-veranstaltung@ref-sh.ch
DTSTAMP:20260316T130629Z
DESCRIPTION:Wir pilgern auf den Spuren der Hugenotten und Waldenser in
  fünf Etappen vom Kloster Fahr in Dietikon bis Barzheim.\n\n1.
  Tagesetappe: Kloster Fahr bis Stettbach (16km)\n\nTreffpunkt: \n\nFür
  das Billett ist jede/r selber verantwortlich.\n\nAnmeldung bis am Vortag
  um 18.00 Uhr an\n oder 044 867 05 18\n\nKontakt: Beat Frefel\n\nWeitere
  Infos: https://www.ref-sh.ch/veranstaltung/195725
SUMMARY:Tagespilgern 2026
PRIORITY:5
X-MICROSOFT-CDO-IMPORTANCE:1
CLASS:PUBLIC
END:VEVENT
END:VCALENDAR
