BEGIN:VCALENDAR
PRODID:-//kirchenweb.ch gmbh//veranstaltungsausgabe v2.0//DE
VERSION:2.0
METHOD:PUBLISH
BEGIN:VEVENT
DTSTART:20260630T063000Z
DTEND:20260630T073000Z
LOCATION:Saal Pfarrhaus\, \,
TRANSP:OPAQUE
SEQUENCE:0
UID:195723-veranstaltung@ref-sh.ch
DTSTAMP:20260227T122654Z
DESCRIPTION:Sich jeden Tag zu bewegen\, ist für ältere Menschen sehr
  wertvoll. Es steigert das Wohlbefinden und die Beweglichkeit\, sicheres
  Gehen und Stehen und beugt Stürzen vor.\nIn der Gruppe macht das viel
  mehr Spass! Unter der Leitung von Monika Brühlmann\, Lohn\, üben Sie
  Beweglichkeit\, Koordination\, Kraft und Gleichgewicht.\n\nKontakt:
  Monika Brühlmann\, 052 649 24 19\, moni.bruehlmann@sunrise.ch\n
 \nKontakt: kaethi.leu@ref-sh.ch\n\nWeitere Infos:
  https://www.ref-sh.ch/veranstaltung/195723
SUMMARY:Pro senectute\, Fit-Gym
PRIORITY:5
X-MICROSOFT-CDO-IMPORTANCE:1
CLASS:PUBLIC
END:VEVENT
END:VCALENDAR
