BEGIN:VCALENDAR
PRODID:-//kirchenweb.ch gmbh//veranstaltungsausgabe v2.0//DE
VERSION:2.0
METHOD:PUBLISH
BEGIN:VEVENT
DTSTART;VALUE=DATE:20261005
DTEND;VALUE=DATE:20261006
LOCATION:Zwinglikirche\, Hochstrasse 202\, 8200 Schaffhausen
TRANSP:OPAQUE
SEQUENCE:0
UID:195690-veranstaltung@ref-sh.ch
DTSTAMP:20260413T075041Z
DESCRIPTION:Pfarrer Liebmann (james.liebmann@ref-sh.ch\, Tel. 079 968 10
  28)\n\nKontakt: Pfr. James Liebmann \n\nWeitere Infos:
  https://www.ref-sh.ch/veranstaltung/195690
SUMMARY:Amtswoche
PRIORITY:5
X-MICROSOFT-CDO-IMPORTANCE:1
CLASS:PUBLIC
END:VEVENT
END:VCALENDAR
