BEGIN:VCALENDAR
PRODID:-//kirchenweb.ch gmbh//veranstaltungsausgabe v2.0//DE
VERSION:2.0
METHOD:PUBLISH
BEGIN:VEVENT
DTSTART;VALUE=DATE:20260727
DTEND;VALUE=DATE:20260728
LOCATION:Zwinglikirche\, Hochstrasse 202\, 8200 Schaffhausen
TRANSP:OPAQUE
SEQUENCE:0
UID:195687-veranstaltung@ref-sh.ch
DTSTAMP:20260302T163019Z
DESCRIPTION:Herblingen\nSperrzeiten: Montag\, Dienstag\, Mittwoch
  Abdankungen\n\nKontakt: Dorothe Felix\n\nWeitere Infos:
  https://www.ref-sh.ch/veranstaltung/195687
SUMMARY:Amtswoche
PRIORITY:5
X-MICROSOFT-CDO-IMPORTANCE:1
CLASS:PUBLIC
END:VEVENT
END:VCALENDAR
