BEGIN:VCALENDAR
PRODID:-//kirchenweb.ch gmbh//veranstaltungsausgabe v2.0//DE
VERSION:2.0
METHOD:PUBLISH
BEGIN:VEVENT
DTSTART;VALUE=DATE:20261012
DTEND;VALUE=DATE:20261013
LOCATION:Zwinglikirche\, Hochstrasse 202\, 8200 Schaffhausen
TRANSP:OPAQUE
SEQUENCE:0
UID:195686-veranstaltung@ref-sh.ch
DTSTAMP:20260302T163024Z
DESCRIPTION:Herblingen\nSperrzeiten: Montag Abdankungen\n\nKontakt: Peter
  Vogelsanger\n\nWeitere Infos: https://www.ref-sh.ch/veranstaltung/195686
SUMMARY:Amtswoche
PRIORITY:5
X-MICROSOFT-CDO-IMPORTANCE:1
CLASS:PUBLIC
END:VEVENT
END:VCALENDAR
