BEGIN:VCALENDAR
PRODID:-//kirchenweb.ch gmbh//veranstaltungsausgabe v2.0//DE
VERSION:2.0
METHOD:PUBLISH
BEGIN:VEVENT
DTSTART:20260322T083000Z
DTEND:20260322T093000Z
LOCATION:Kirche Buch\, Dorfstrasse\, 8263 Buch
TRANSP:OPAQUE
SEQUENCE:0
UID:195676-veranstaltung@ref-sh.ch
DTSTAMP:20260302T163005Z
DESCRIPTION:Pfarrer Heinz Bolli\, Im Anschluss findet die
  Kirchgemeindeversammlung statt.\n\nKontakt: Pfarrer Heinz Bolli\n
 \nWeitere Infos: https://www.ref-sh.ch/veranstaltung/195676
SUMMARY:Gottesdienst in Buch
PRIORITY:5
X-MICROSOFT-CDO-IMPORTANCE:1
CLASS:PUBLIC
END:VEVENT
END:VCALENDAR
