BEGIN:VCALENDAR
PRODID:-//kirchenweb.ch gmbh//veranstaltungsausgabe v2.0//DE
VERSION:2.0
METHOD:PUBLISH
BEGIN:VEVENT
DTSTART:20260315T160000Z
DTEND:20260315T170000Z
LOCATION:Kirche Ramsen\, Bahnhofstr.\, 8262 Ramsen
TRANSP:OPAQUE
SEQUENCE:0
UID:195675-veranstaltung@ref-sh.ch
DTSTAMP:20260302T163004Z
DESCRIPTION:Wir treffen uns um 17.00 Uhr in der Kirche zu einer
  liturgischen Abendfeier. Mit unterschiedlichen Texten und schöner Musik
  werden wir den Sonntag ausklingen lassen. \nAuskunft Petra Hofmann 052
  743 11 44/ petra.hofmann@ref-sh.ch \n\nKontakt: Petra Hofmann\n\nWeitere
  Infos: https://www.ref-sh.ch/veranstaltung/195675
SUMMARY:liturgische Abendfeier mit Prädikantin Petra Hofmann
PRIORITY:5
X-MICROSOFT-CDO-IMPORTANCE:1
CLASS:PUBLIC
END:VEVENT
END:VCALENDAR
