BEGIN:VCALENDAR
PRODID:-//kirchenweb.ch gmbh//veranstaltungsausgabe v2.0//DE
VERSION:2.0
METHOD:PUBLISH
BEGIN:VEVENT
DTSTART:20260411T220000Z
DTEND:20260411T220100Z
LOCATION:Gottesdienst in der Nachbarschaft\, \,
TRANSP:OPAQUE
SEQUENCE:0
UID:195674-veranstaltung@ref-sh.ch
DTSTAMP:20260316T134642Z
DESCRIPTION:Kontakt: sandra.ruh@ref-sh.ch\n\nWeitere Infos:
  https://www.ref-sh.ch/veranstaltung/195674
SUMMARY:Gottesdienst in der Nachbarschaft
PRIORITY:5
X-MICROSOFT-CDO-IMPORTANCE:1
CLASS:PUBLIC
END:VEVENT
END:VCALENDAR
