BEGIN:VCALENDAR
PRODID:-//kirchenweb.ch gmbh//veranstaltungsausgabe v2.0//DE
VERSION:2.0
METHOD:PUBLISH
BEGIN:VEVENT
DTSTART:20260301T083000Z
DTEND:20260301T093000Z
LOCATION:Kirche Buch\, Dorfstrasse\, 8263 Buch
TRANSP:OPAQUE
SEQUENCE:0
UID:195672-veranstaltung@ref-sh.ch
DTSTAMP:20260226T194052Z
DESCRIPTION:mit Pfarrer Bernd Stockburger\n\nKontakt: Pfarrer Bernd
  Stockburger\n\nWeitere Infos: https://www.ref-sh.ch/veranstaltung/195672
SUMMARY:Gottesdienst in Buch
PRIORITY:5
X-MICROSOFT-CDO-IMPORTANCE:1
CLASS:PUBLIC
END:VEVENT
END:VCALENDAR
