BEGIN:VCALENDAR
PRODID:-//kirchenweb.ch gmbh//veranstaltungsausgabe v2.0//DE
VERSION:2.0
METHOD:PUBLISH
BEGIN:VEVENT
DTSTART:20260320T163000Z
DTEND:20260320T173000Z
LOCATION:Kirchgemeindehaus Ramsen\, Bahnhofstrasse\, 8262 Ramsen
TRANSP:OPAQUE
SEQUENCE:0
UID:195669-veranstaltung@ref-sh.ch
DTSTAMP:20260226T191525Z
DESCRIPTION:Für Kleinkinder in Begleitung eines Erwachsenen. Wir feiern
  Gottesdienst mit "Robbie"\, hören eine Geschichte\, singen\, beten und
  basteln. \n\nKontakt: sandra.ruh@ref-sh.ch\n\nWeitere Infos:
  https://www.ref-sh.ch/veranstaltung/195669
SUMMARY:Chinderfiir
PRIORITY:5
X-MICROSOFT-CDO-IMPORTANCE:1
CLASS:PUBLIC
END:VEVENT
END:VCALENDAR
