BEGIN:VCALENDAR
PRODID:-//kirchenweb.ch gmbh//veranstaltungsausgabe v2.0//DE
VERSION:2.0
METHOD:PUBLISH
BEGIN:VEVENT
DTSTART:20260306T183000Z
DTEND:20260306T193000Z
LOCATION:Ev.-ref. Kirche\, Bahnhofstrasse 275\, 8262 Ramsen
TRANSP:OPAQUE
SEQUENCE:0
UID:195668-veranstaltung@ref-sh.ch
DTSTAMP:20260226T191313Z
DESCRIPTION:Kontakt: Petra Hofmann \n\nWeitere Infos:
  https://www.ref-sh.ch/veranstaltung/195668
SUMMARY:Gottesdienst zum Weltgebetstag
PRIORITY:5
X-MICROSOFT-CDO-IMPORTANCE:1
CLASS:PUBLIC
END:VEVENT
END:VCALENDAR
