BEGIN:VCALENDAR
PRODID:-//kirchenweb.ch gmbh//veranstaltungsausgabe v2.0//DE
VERSION:2.0
METHOD:PUBLISH
BEGIN:VEVENT
DTSTART:20260429T093000Z
DTEND:20260429T103000Z
LOCATION:Restaurant Hirschen\, Fortenbach 239\, 8262 Ramsen SH
TRANSP:OPAQUE
SEQUENCE:0
UID:195658-veranstaltung@ref-sh.ch
DTSTAMP:20260226T190400Z
DESCRIPTION:Er findet in der Regel am letzten Mittwoch im Monat um 11.30
  Uhr im Restaurant Hirschen in Ramsen statt.\nJede/jeder wählt sein Menu
  und bezahlt selbst.\n \nAuskunft: Regula Graf\, 052 743 12 83\n\nKontakt:
  sandra.ruh@ref-sh.ch\n\nWeitere Infos:
  https://www.ref-sh.ch/veranstaltung/195658
SUMMARY:Mittagstisch 60+
PRIORITY:5
X-MICROSOFT-CDO-IMPORTANCE:1
CLASS:PUBLIC
END:VEVENT
END:VCALENDAR
