BEGIN:VCALENDAR
PRODID:-//kirchenweb.ch gmbh//veranstaltungsausgabe v2.0//DE
VERSION:2.0
METHOD:PUBLISH
BEGIN:VEVENT
DTSTART:20260427T173000Z
DTEND:20260427T183000Z
LOCATION:Kirchgemeindehaus Ramsen\, Bahnhofstrasse\, 8262 Ramsen
TRANSP:OPAQUE
SEQUENCE:0
UID:195655-veranstaltung@ref-sh.ch
DTSTAMP:20260226T190048Z
DESCRIPTION:Kontakt: Dieter Gurtner\n\nWeitere Infos:
  https://www.ref-sh.ch/veranstaltung/195655
SUMMARY:Kirchgemeindeversammlung Ramsen
PRIORITY:5
X-MICROSOFT-CDO-IMPORTANCE:1
CLASS:PUBLIC
END:VEVENT
END:VCALENDAR
