BEGIN:VCALENDAR
PRODID:-//kirchenweb.ch gmbh//veranstaltungsausgabe v2.0//DE
VERSION:2.0
METHOD:PUBLISH
BEGIN:VEVENT
DTSTART;VALUE=DATE:20260824
DTEND;VALUE=DATE:20260825
LOCATION:Zwinglikirche\, Hochstrasse 202\, 8200 Schaffhausen
TRANSP:OPAQUE
SEQUENCE:0
UID:195643-veranstaltung@ref-sh.ch
DTSTAMP:20260326T105811Z
DESCRIPTION:Montag und Freitag keine Abdankungen\n\nKontakt: Pfrn. Miriam
  Gehrke\n\nWeitere Infos: https://www.ref-sh.ch/veranstaltung/195643
SUMMARY:Amtswoche
PRIORITY:5
X-MICROSOFT-CDO-IMPORTANCE:1
CLASS:PUBLIC
END:VEVENT
END:VCALENDAR
