BEGIN:VCALENDAR
PRODID:-//kirchenweb.ch gmbh//veranstaltungsausgabe v2.0//DE
VERSION:2.0
METHOD:PUBLISH
BEGIN:VEVENT
DTSTART:20260517T093000Z
DTEND:20260517T103000Z
LOCATION:Generationentreff\, Schlatterweg 11\, 8240 Thayngen
TRANSP:OPAQUE
SEQUENCE:0
UID:195632-veranstaltung@ref-sh.ch
DTSTAMP:20260415T150447Z
DESCRIPTION:Mittagessen für ALLE im Generationentreff - mit Anmeldung im
  Sekretariat bis Donnerstagmittag Tel. 052 649 16 58\n\nKontakt: C. Jäggi
 \n\nWeitere Infos: https://www.ref-sh.ch/veranstaltung/195632
SUMMARY:Mittagessen gemeinsam
PRIORITY:5
X-MICROSOFT-CDO-IMPORTANCE:1
CLASS:PUBLIC
END:VEVENT
END:VCALENDAR
