BEGIN:VCALENDAR
PRODID:-//kirchenweb.ch gmbh//veranstaltungsausgabe v2.0//DE
VERSION:2.0
METHOD:PUBLISH
BEGIN:VEVENT
DTSTART;VALUE=DATE:20260612
DTEND;VALUE=DATE:20260613
LOCATION:Stadtkirche St. Georg\, Chirchhofplatz\, 8260 Stein am Rhein
TRANSP:OPAQUE
SEQUENCE:0
UID:195605-veranstaltung@ref-sh.ch
DTSTAMP:20260225T121557Z
DESCRIPTION:Kontakt: nicole.gerstlauer@ref-sh.ch\n\nWeitere Infos:
  https://www.ref-sh.ch/veranstaltung/195605
SUMMARY:Podeste stehen in Kirche
PRIORITY:5
X-MICROSOFT-CDO-IMPORTANCE:1
CLASS:PUBLIC
END:VEVENT
END:VCALENDAR
